BEGIN:VCALENDAR
VERSION:2.0
PRODID:-//Clutch Solutions - ECPv6.15.20//NONSGML v1.0//EN
CALSCALE:GREGORIAN
METHOD:PUBLISH
X-ORIGINAL-URL:https://clutchsolutions.com
X-WR-CALDESC:Events for Clutch Solutions
REFRESH-INTERVAL;VALUE=DURATION:PT1H
X-Robots-Tag:noindex
X-PUBLISHED-TTL:PT1H
BEGIN:VTIMEZONE
TZID:America/New_York
BEGIN:DAYLIGHT
TZOFFSETFROM:-0500
TZOFFSETTO:-0400
TZNAME:EDT
DTSTART:20240310T070000
END:DAYLIGHT
BEGIN:STANDARD
TZOFFSETFROM:-0400
TZOFFSETTO:-0500
TZNAME:EST
DTSTART:20241103T060000
END:STANDARD
BEGIN:DAYLIGHT
TZOFFSETFROM:-0500
TZOFFSETTO:-0400
TZNAME:EDT
DTSTART:20250309T070000
END:DAYLIGHT
BEGIN:STANDARD
TZOFFSETFROM:-0400
TZOFFSETTO:-0500
TZNAME:EST
DTSTART:20251102T060000
END:STANDARD
BEGIN:DAYLIGHT
TZOFFSETFROM:-0500
TZOFFSETTO:-0400
TZNAME:EDT
DTSTART:20260308T070000
END:DAYLIGHT
BEGIN:STANDARD
TZOFFSETFROM:-0400
TZOFFSETTO:-0500
TZNAME:EST
DTSTART:20261101T060000
END:STANDARD
END:VTIMEZONE
BEGIN:VEVENT
DTSTART;VALUE=DATE:20250814
DTEND;VALUE=DATE:20250815
DTSTAMP:20260423T065855
CREATED:20250704T192303Z
LAST-MODIFIED:20250704T192326Z
UID:10000774-1755129600-1755215999@clutchsolutions.com
SUMMARY:Clutch Solutions 2nd Annual Chicago Golf Tournament
DESCRIPTION:
URL:https://clutchsolutions.com/event/clutch-solutions-2nd-annual-chicago-golf-tournament/
ATTACH;FMTTYPE=image/png:https://clutchsolutions.com/wp-content/uploads/2025/06/Chicago-Golf-Tournament-e1751656948537.png
END:VEVENT
END:VCALENDAR