BEGIN:VCALENDAR
VERSION:2.0
PRODID:-//Clutch Solutions - ECPv6.15.20//NONSGML v1.0//EN
CALSCALE:GREGORIAN
METHOD:PUBLISH
X-ORIGINAL-URL:https://clutchsolutions.com
X-WR-CALDESC:Events for Clutch Solutions
REFRESH-INTERVAL;VALUE=DURATION:PT1H
X-Robots-Tag:noindex
X-PUBLISHED-TTL:PT1H
BEGIN:VTIMEZONE
TZID:America/Edmonton
BEGIN:DAYLIGHT
TZOFFSETFROM:-0700
TZOFFSETTO:-0600
TZNAME:MDT
DTSTART:20240310T090000
END:DAYLIGHT
BEGIN:STANDARD
TZOFFSETFROM:-0600
TZOFFSETTO:-0700
TZNAME:MST
DTSTART:20241103T080000
END:STANDARD
BEGIN:DAYLIGHT
TZOFFSETFROM:-0700
TZOFFSETTO:-0600
TZNAME:MDT
DTSTART:20250309T090000
END:DAYLIGHT
BEGIN:STANDARD
TZOFFSETFROM:-0600
TZOFFSETTO:-0700
TZNAME:MST
DTSTART:20251102T080000
END:STANDARD
BEGIN:DAYLIGHT
TZOFFSETFROM:-0700
TZOFFSETTO:-0600
TZNAME:MDT
DTSTART:20260308T090000
END:DAYLIGHT
BEGIN:STANDARD
TZOFFSETFROM:-0600
TZOFFSETTO:-0700
TZNAME:MST
DTSTART:20261101T080000
END:STANDARD
END:VTIMEZONE
BEGIN:VEVENT
DTSTART;VALUE=DATE:20250821
DTEND;VALUE=DATE:20250822
DTSTAMP:20260423T051544
CREATED:20250704T191855Z
LAST-MODIFIED:20250704T192105Z
UID:10000772-1755734400-1755820799@clutchsolutions.com
SUMMARY:Clutch Solutions Canada 3rd Annual Golf Tournament
DESCRIPTION:
URL:https://clutchsolutions.com/event/clutch-solutions-canada-3rd-annual-golf-tournament/
ATTACH;FMTTYPE=image/jpeg:https://clutchsolutions.com/wp-content/uploads/2025/06/Golf-poster-web-e1751656721293.jpg
END:VEVENT
BEGIN:VEVENT
DTSTART;VALUE=DATE:20251211
DTEND;VALUE=DATE:20251212
DTSTAMP:20260423T051544
CREATED:20250704T191946Z
LAST-MODIFIED:20250704T192100Z
UID:10000773-1765411200-1765497599@clutchsolutions.com
SUMMARY:Clutch Solutions Canada | Clutchmas
DESCRIPTION:
URL:https://clutchsolutions.com/event/clutch-solutions-canada-clutchmas/
END:VEVENT
END:VCALENDAR